BEGIN:VCALENDAR
VERSION:2.0
PRODID:-//ChamberMaster//Event Calendar 2.0//EN
METHOD:PUBLISH
X-PUBLISHED-TTL:P3D
REFRESH-INTERVAL:P3D
CALSCALE:GREGORIAN
BEGIN:VEVENT
DTSTART:20131201T010500Z
DTEND:20131201T010500Z
X-MICROSOFT-CDO-ALLDAYEVENT:FALSE
SUMMARY:Tri-City Storm vs. Omaha
DESCRIPTION:Break out your ugliest holiday sweater for the Storm Game! We'll discount your ticket price if you do! Sport it while cheering the Storm and drinking $1 Beers.
X-ALT-DESC;FMTTYPE=text/html:Break out your ugliest holiday sweater for the Storm Game! We&#39\;ll discount your ticket price if you do! Sport it while cheering the Storm and drinking $1 Beers.&nbsp\;
LOCATION:Viaero Event Center 609 Platte Road Kearney\, NE
UID:e.1404.3365
SEQUENCE:3
DTSTAMP:20260423T231244Z
URL:https://members.kearneycoc.org/events/details/tri-city-storm-vs-omaha-11-30-2013-3365
END:VEVENT

END:VCALENDAR
