BEGIN:VCALENDAR
VERSION:2.0
PRODID:-//ChamberMaster//Event Calendar 2.0//EN
METHOD:PUBLISH
X-PUBLISHED-TTL:P3D
REFRESH-INTERVAL:P3D
CALSCALE:GREGORIAN
BEGIN:VEVENT
DTSTART:20191024T210000Z
DTEND:20191024T230000Z
X-MICROSOFT-CDO-ALLDAYEVENT:FALSE
SUMMARY:Trick-or-Treat on the Bricks
DESCRIPTION:It's almost time to trick-or-treat on the Bricks! Bring your kids down on Thursday\, October 24th from 4-6 PM for some treats. Be sure to watch for Teal Pumpkin participants for allergy friendly ones.
X-ALT-DESC;FMTTYPE=text/html:It&#39\;s almost time to trick-or-treat on the Bricks! Bring your kids down on Thursday\, October 24th from 4-6 PM for some treats. Be sure to watch for Teal Pumpkin participants for allergy friendly ones.
LOCATION:Downtown Kearney
UID:e.1404.17839
SEQUENCE:3
DTSTAMP:20260425T164030Z
URL:https://members.kearneycoc.org/events/details/trick-or-treat-on-the-bricks-10-24-2019-17839
END:VEVENT

END:VCALENDAR
