BEGIN:VCALENDAR
VERSION:2.0
PRODID:-//ChamberMaster//Event Calendar 2.0//EN
METHOD:PUBLISH
X-PUBLISHED-TTL:P3D
REFRESH-INTERVAL:P3D
CALSCALE:GREGORIAN
BEGIN:VEVENT
DTSTART:20211028T210000Z
DTEND:20211028T230000Z
X-MICROSOFT-CDO-ALLDAYEVENT:FALSE
SUMMARY:Trick-or-Treat on the Bricks
DESCRIPTION:Bring your kids in their costumes to the Bricks for a treat from participating businesses.
X-ALT-DESC;FMTTYPE=text/html:Bring your kids in their costumes to the Bricks for a treat from participating businesses.
LOCATION:Downtown Kearney
UID:e.1404.19386
SEQUENCE:3
DTSTAMP:20260423T232738Z
URL:https://members.kearneycoc.org/events/details/trick-or-treat-on-the-bricks-10-28-2021-19386
END:VEVENT

END:VCALENDAR
