BEGIN:VCALENDAR
VERSION:2.0
PRODID:-//ChamberMaster//Event Calendar 2.0//EN
METHOD:PUBLISH
X-PUBLISHED-TTL:P3D
REFRESH-INTERVAL:P3D
CALSCALE:GREGORIAN
BEGIN:VEVENT
DTSTART:20201029T210000Z
DTEND:20201029T230000Z
X-MICROSOFT-CDO-ALLDAYEVENT:FALSE
SUMMARY:Trick-or-Treat on the Bricks
DESCRIPTION:Bring your little ones in their costumes to trick-or-treat at participating businesses on the Bricks in Downtown Kearney on Thursday\, October 29th from 4-6 PM! We're excited about this event\, but\, due to COVID-19\, masks and social distancing are recommended and please stay home if you are not feeling well or have been exposed to someone with the disease or has symptoms of it.
X-ALT-DESC;FMTTYPE=text/html:Bring your little ones in their costumes to trick-or-treat at participating businesses on the Bricks in Downtown Kearney on Thursday\, October 29th from 4-6 PM! We&#39\;re excited about this event\, but\, due to COVID-19\, masks and social distancing are recommended and please stay home if you are not feeling well or have been exposed to someone with the disease or has symptoms of it.
LOCATION:Downtown Kearney
UID:e.1404.18718
SEQUENCE:3
DTSTAMP:20260424T223555Z
URL:https://members.kearneycoc.org/events/details/trick-or-treat-on-the-bricks-10-29-2020-18718
END:VEVENT

END:VCALENDAR
