BEGIN:VCALENDAR
VERSION:2.0
PRODID:-//ChamberMaster//Event Calendar 2.0//EN
METHOD:PUBLISH
X-PUBLISHED-TTL:P3D
REFRESH-INTERVAL:P3D
CALSCALE:GREGORIAN
BEGIN:VEVENT
DTSTART:20141030T210000Z
DTEND:20141030T230000Z
X-MICROSOFT-CDO-ALLDAYEVENT:FALSE
SUMMARY:Trick or Treat On the Bricks
DESCRIPTION:Walk the bricks with the family Trick or Treating down Central Ave and you might even spot a treat for yourself inside a shop. Happy Halloween!
X-ALT-DESC;FMTTYPE=text/html:Walk the bricks with the family Trick or Treating down Central Ave and you might even spot a treat for yourself inside a shop. Happy Halloween!
LOCATION:Downtown Kearney
UID:e.1404.5382
SEQUENCE:3
DTSTAMP:20260423T051234Z
URL:https://members.kearneycoc.org/events/details/trick-or-treat-on-the-bricks-10-30-2014-5382
END:VEVENT

END:VCALENDAR
