BEGIN:VCALENDAR
VERSION:2.0
PRODID:-//ChamberMaster//Event Calendar 2.0//EN
METHOD:PUBLISH
X-PUBLISHED-TTL:P3D
REFRESH-INTERVAL:P3D
CALSCALE:GREGORIAN
BEGIN:VEVENT
DTSTART:20220513T003000Z
DTEND:20220513T023000Z
X-MICROSOFT-CDO-ALLDAYEVENT:FALSE
SUMMARY:Tusk
DESCRIPTION:Tusk covers all the great hits of Fleetwood Mac\, one of the world's best-loved\, and top-selling bands. No fancy tricks\, no gimmicks\, just five musicians recreating the music of Fleetwood Mac to perfection with note for note renditions of their famous songs including "Rhiannon"\, "The Chain"\, and "Go Your Own Way". Tickets can be purchased online by going to merrymancenter.org\, or by calling the box office at (308) 698-8297. Please note: this is a rescheduled performance. If you purchased tickets to the original date they are still valid for this performance. Please call the box office if you have any questions.
X-ALT-DESC;FMTTYPE=text/html:Tusk covers all the great hits of Fleetwood Mac\, one of the world&rsquo\;s best-loved\, and top-selling bands. No fancy tricks\, no gimmicks\, just five musicians recreating the music of Fleetwood Mac to perfection with note for note renditions of their famous songs including &ldquo\;Rhiannon&rdquo\;\, &ldquo\;The Chain&rdquo\;\, and &ldquo\;Go Your Own Way&rdquo\;. Tickets can be purchased online by going to merrymancenter.org\, or by calling the box office at (308) 698-8297. Please note: this is a rescheduled performance. If you purchased tickets to the original date they are still valid for this performance. Please call the box office if you have any questions.
LOCATION:Merryman Performing Arts Center 225 W 22nd Street Kearney\, NE 68845
UID:e.1404.19646
SEQUENCE:3
DTSTAMP:20260423T113657Z
URL:https://members.kearneycoc.org/events/details/tusk-05-12-2022-19646
END:VEVENT

END:VCALENDAR
