BEGIN:VCALENDAR
VERSION:2.0
PRODID:-//ChamberMaster//Event Calendar 2.0//EN
METHOD:PUBLISH
X-PUBLISHED-TTL:P3D
REFRESH-INTERVAL:P3D
CALSCALE:GREGORIAN
BEGIN:VEVENT
DTSTART:20200111T150000Z
DTEND:20200111T160000Z
X-MICROSOFT-CDO-ALLDAYEVENT:FALSE
SUMMARY:U.S. Cellular Device Workshop Offers Tips to Stay Fit\, Organized
DESCRIPTION:The holidays bring a wide variety of tasty treats and never-ending dinners. But what also ends up arriving are expanded waistlines and unwanted extra pounds. With family and friends beginning to set new resolutions to shed that excess winter weight\, why not have the latest and greatest in technology become the ultimate personal trainer to help start the New Year right? Apps that create very handy to-do lists or that can build the ultimate workout and diet plan from scratch are all at your disposable. U.S. Cellular's tech experts are here to help feel the burn. U.S. Cellular associates in Kearney will host a free Device Workshop\, where they are ready to support those tweaks to a healthier and more organized lifestyle powered by new apps and U.S. Cellular's strong network. The workshop is open to everyone. You do not need to be a U.S. Cellular customer to attend. "As 2019 fades into the rear-view mirror\, the new year is a perfect time to establish positive goals toward a health-conscious lifestyle\," said Mike Adams\, U.S. Cellular's director of sales for Nebraska and Iowa. "It's important to support these changes\, and it's an exciting opportunity for our knowledgeable associates to point you to the most helpful tech resources." Please call 308-236-2075 for more information.
X-ALT-DESC;FMTTYPE=text/html:The holidays bring a wide variety of tasty treats and never-ending dinners. But what also ends up arriving are expanded waistlines and unwanted extra pounds. With family and friends beginning to set new resolutions to shed that excess winter weight\, why not have the latest and greatest in technology become the ultimate personal trainer to help start the New Year right? Apps that create very handy to-do lists or that can build the ultimate workout and diet plan from scratch are all at your disposable. U.S. Cellular&rsquo\;s tech experts are here to help feel the burn. U.S. Cellular associates in Kearney will host a free Device Workshop\, where they are ready to support those tweaks to a healthier and more organized lifestyle powered by new apps and U.S. Cellular&rsquo\;s strong network. The workshop is open to everyone. You do not need to be a U.S. Cellular customer to attend. &ldquo\;As 2019 fades into the rear-view mirror\, the new year is a perfect time to establish positive goals toward a health-conscious lifestyle\,&rdquo\; said Mike Adams\, U.S. Cellular&rsquo\;s director of sales for Nebraska and Iowa. &ldquo\;It&rsquo\;s important to support these changes\, and it&rsquo\;s an exciting opportunity for our knowledgeable associates to point you to the most helpful tech resources.&rdquo\; Please call 308-236-2075 for more information.
LOCATION:U.S. Cellular 5306 Second Ave. Kearney
UID:e.1404.18306
SEQUENCE:3
DTSTAMP:20260425T114041Z
URL:https://members.kearneycoc.org/events/details/u-s-cellular-device-workshop-offers-tips-to-stay-fit-organized-18306
END:VEVENT

END:VCALENDAR
