BEGIN:VCALENDAR
VERSION:2.0
PRODID:-//ChamberMaster//Event Calendar 2.0//EN
METHOD:PUBLISH
X-PUBLISHED-TTL:P3D
REFRESH-INTERVAL:P3D
CALSCALE:GREGORIAN
BEGIN:VEVENT
DTSTART:20131130T013000Z
DTEND:20131130T033000Z
X-MICROSOFT-CDO-ALLDAYEVENT:FALSE
SUMMARY:U.S. Cellular to host Family Movie Weekend
DESCRIPTION:U.S. Cellular invites families to start the holiday season with the second annual U.S. Cellular Family Movie Weekend at The World Theatre in downtown Kearney. People can visit the U.S. Cellular retail store in Kearney\, 4623 Second Ave.\, to receive free admission vouchers (while supplies last) to the comedy ?National Lampoon?s Christmas Vacation.? The Griswold family encourages you to follow @USCCKearney on Twitter for updates. "We are active members of our communities where we live and work\,? U.S. Cellular Field Marketing Manager Megan Goeke said. ?We believe this movie is a great way to bring people together and kick off the holiday shopping season.? The movie starts at 7:30 p.m. Doors open at 6:30 p.m.
X-ALT-DESC;FMTTYPE=text/html:U.S. Cellular invites families to start the holiday season with the second annual U.S. Cellular Family Movie Weekend at The World Theatre in downtown Kearney. People can visit the U.S. Cellular retail store in Kearney\, 4623 Second Ave.\, to receive free admission vouchers (while supplies last) to the comedy ?National Lampoon?s Christmas Vacation.? The Griswold family encourages you to follow @USCCKearney on Twitter for updates. &quot\;We are active members of our communities where we live and work\,? U.S. Cellular Field Marketing Manager Megan Goeke said. ?We believe this movie is a great way to bring people together and kick off the holiday shopping season.? The movie starts at 7:30 p.m. Doors open at 6:30 p.m. 
LOCATION:The World Theatre\, 2318 Central Ave.\, Kearney
UID:e.1404.3383
SEQUENCE:3
DTSTAMP:20260423T231426Z
URL:https://members.kearneycoc.org/events/details/u-s-cellular-to-host-family-movie-weekend-11-29-2013-3383
END:VEVENT

END:VCALENDAR
