BEGIN:VCALENDAR
VERSION:2.0
PRODID:-//ChamberMaster//Event Calendar 2.0//EN
METHOD:PUBLISH
X-PUBLISHED-TTL:P3D
REFRESH-INTERVAL:P3D
CALSCALE:GREGORIAN
BEGIN:VEVENT
DTSTART:20121223T200000Z
DTEND:20121223T220000Z
X-MICROSOFT-CDO-ALLDAYEVENT:FALSE
SUMMARY:U.S. Cellular will host family seasonal celebration at The World Theatre
DESCRIPTION:Ralphie will help U.S. Cellular prepare for a family seasonal celebration.\n\n	U.S. Cellular will be the weekend sponsor for the showings of "A Christmas Story" at The World Theatre in downtown Kearney. People can visit the U.S. Cellular retail store in Kearney\, 4623 Second Ave.\, to receive free admission vouchers (while supplies last) for U.S. Cellular Family Movie Weekend. U.S. Cellular customers will receive a special holiday surprise at The World Theatre's concession stand during the event. \n\n	 \n\n	                        "With all the busy activities around the holidays\, we want to encourage families to take time together to do something fun\," U.S. Cellular Field Marketing Manager Megan Goeke said. "By providing free admission to anyone who stops by our retail store\, we are supporting the family connection by giving something unexpected during the holidays."
X-ALT-DESC;FMTTYPE=text/html:<p class="MsoNormal" style="text-indent: -1in\; margin: 0in 0in 0pt 1in">\n	<font color="#000000" face="Times New Roman" size="3">Ralphie will help U.S. Cellular prepare for a family seasonal celebration.<br />\n	U.S. Cellular will be the weekend sponsor for the showings of &ldquo\;A Christmas Story&rdquo\; at The World Theatre in downtown Kearney. People can visit the U.S. Cellular retail store in Kearney\, 4623 Second Ave.\, to receive free admission vouchers (while supplies last) for U.S. Cellular Family Movie Weekend. U.S. Cellular customers will receive a special holiday surprise at The World Theatre&rsquo\;s concession stand during the event. </font></p>\n<p class="MsoNormal" style="text-indent: -1in\; margin: 0in 0in 0pt 1in">\n	<o:p><font color="#000000" face="Times New Roman" size="3">&nbsp\;</font></o:p></p>\n<p class="MsoNormal" style="text-indent: -1in\; margin: 0in 0in 0pt 1in">\n	<font size="3"><font color="#000000"><font face="Times New Roman"><span style="mso-tab-count: 1">&nbsp\;&nbsp\;&nbsp\;&nbsp\;&nbsp\;&nbsp\;&nbsp\;&nbsp\;&nbsp\;&nbsp\;&nbsp\;&nbsp\;&nbsp\;&nbsp\;&nbsp\;&nbsp\;&nbsp\;&nbsp\;&nbsp\;&nbsp\;&nbsp\;&nbsp\;&nbsp\; </span>&ldquo\;With all the busy activities around the holidays\, we want to encourage families to take time together to do something fun\,&rdquo\; U.S. Cellular Field Marketing Manager Megan Goeke said. &ldquo\;By providing free admission to anyone who stops by our retail store\, we are supporting the family connection by giving something unexpected during the holidays.&rdquo\;</font></font></font></p>\n
LOCATION:The World Theatre 2318 Central Ave.
UID:e.1404.2222
SEQUENCE:3
DTSTAMP:20260424T191645Z
URL:https://members.kearneycoc.org/events/details/u-s-cellular-will-host-family-seasonal-celebration-at-the-world-theatre-12-23-2012-2222
END:VEVENT

END:VCALENDAR
