BEGIN:VCALENDAR
VERSION:2.0
PRODID:-//ChamberMaster//Event Calendar 2.0//EN
METHOD:PUBLISH
X-PUBLISHED-TTL:P3D
REFRESH-INTERVAL:P3D
CALSCALE:GREGORIAN
BEGIN:VEVENT
DTSTART:20190801T210000Z
DTEND:20190802T000000Z
X-MICROSOFT-CDO-ALLDAYEVENT:FALSE
SUMMARY:UMed Spa - We're Still Afloat Re-Opening!
DESCRIPTION:Please join us for the Re-Opening of our north location! For every $100 gift card\, receive $20 free. Gift with purchase. Drawings for prizes! Visit our Facebook page for more specials! www.facebook.com/umedspakearney/
X-ALT-DESC;FMTTYPE=text/html:Please join us for the Re-Opening of our north location! For every $100 gift card\, receive $20 free. Gift with purchase. Drawings for prizes! Visit our Facebook page for more specials! www.facebook.com/umedspakearney/
LOCATION:5609 1st Ave.
UID:e.1404.16597
SEQUENCE:3
DTSTAMP:20260425T213258Z
URL:https://members.kearneycoc.org/events/details/umed-spa-we-re-still-afloat-re-opening-16597
END:VEVENT

END:VCALENDAR
