BEGIN:VCALENDAR
VERSION:2.0
PRODID:-//ChamberMaster//Event Calendar 2.0//EN
METHOD:PUBLISH
X-PUBLISHED-TTL:P3D
REFRESH-INTERVAL:P3D
CALSCALE:GREGORIAN
BEGIN:VEVENT
DTSTART:20190311T180000Z
DTEND:20190311T200000Z
X-MICROSOFT-CDO-ALLDAYEVENT:FALSE
SUMMARY:Understanding Art: And Now For the Rest of the Story
DESCRIPTION:Join John McKirahan for this Senior College class. Art is made for a variety of reasons. It can decorate\, uplift\, even help us understand our world a little better. In this class we will examine the techniques visual artists use to tell stories and come to understand what the stories are that are being told.
X-ALT-DESC;FMTTYPE=text/html:Join John McKirahan for this Senior College class. Art is made for a variety of reasons. It can decorate\, uplift\, even help us understand our world a little better. In this class we will examine the techniques visual artists use to tell stories and come to understand what the stories are that are being told.
LOCATION:Kearney Public Library Niobrara Room
UID:e.1404.15402
SEQUENCE:3
DTSTAMP:20260426T033525Z
URL:https://members.kearneycoc.org/events/details/understanding-art-and-now-for-the-rest-of-the-story-15402
END:VEVENT

END:VCALENDAR
