BEGIN:VCALENDAR
VERSION:2.0
PRODID:-//ChamberMaster//Event Calendar 2.0//EN
METHOD:PUBLISH
X-PUBLISHED-TTL:P3D
REFRESH-INTERVAL:P3D
CALSCALE:GREGORIAN
BEGIN:VEVENT
DTSTART:20140922T140000Z
DTEND:20140922T200000Z
X-MICROSOFT-CDO-ALLDAYEVENT:FALSE
SUMMARY:Understanding Health Disparities Workshop
DESCRIPTION:Free healthcare disparities workshop Central Community College?s Project HELP is hosting. Monday\, Sept. 22 in Grand Island at College Park from 9:00 am - 3:00 pm Five continuing education hours offered\, and lunch is provided! Register at the link provided with this event.
X-ALT-DESC;FMTTYPE=text/html:Free healthcare disparities workshop Central Community College?s Project HELP is hosting. Monday\, Sept. 22 in Grand Island at College Park from 9:00 am - 3:00 pm Five continuing education hours offered\, and lunch is provided! Register at the link provided with this event.
LOCATION:Grand Island\, College Park
UID:e.1404.5318
SEQUENCE:3
DTSTAMP:20260423T065804Z
URL:https://members.kearneycoc.org/events/details/understanding-health-disparities-workshop-09-22-2014-5318
END:VEVENT

END:VCALENDAR
