BEGIN:VCALENDAR
VERSION:2.0
PRODID:-//ChamberMaster//Event Calendar 2.0//EN
METHOD:PUBLISH
X-PUBLISHED-TTL:P3D
REFRESH-INTERVAL:P3D
CALSCALE:GREGORIAN
BEGIN:VEVENT
DTSTART:20190327T160000Z
DTEND:20190327T180000Z
X-MICROSOFT-CDO-ALLDAYEVENT:FALSE
SUMMARY:United Way Annual Board Meeting Luncheon\, including "Drop Your Boss" event
DESCRIPTION:United Way Annual Board Meeting Luncheon\, including the "Drop Your Boss" event.
X-ALT-DESC;FMTTYPE=text/html:United Way Annual Board Meeting Luncheon\, including the &quot\;Drop Your Boss&quot\; event.
LOCATION:Holiday Inn\, Kearney\, NE
UID:e.1404.14473
SEQUENCE:3
DTSTAMP:20260426T033532Z
URL:https://members.kearneycoc.org/events/details/united-way-annual-board-meeting-luncheon-including-drop-your-boss-event-14473
END:VEVENT

END:VCALENDAR
