BEGIN:VCALENDAR
VERSION:2.0
PRODID:-//ChamberMaster//Event Calendar 2.0//EN
METHOD:PUBLISH
X-PUBLISHED-TTL:P3D
REFRESH-INTERVAL:P3D
CALSCALE:GREGORIAN
BEGIN:VEVENT
DTSTART:20190305T233000Z
DTEND:20190306T020000Z
X-MICROSOFT-CDO-ALLDAYEVENT:FALSE
SUMMARY:United Way\, Dine Out-to-Help Out
DESCRIPTION:United Way\, Dine Out-to-Help Out
X-ALT-DESC;FMTTYPE=text/html:United Way\, Dine Out-to-Help Out
LOCATION:Old Chicago Team Leader: Brad Kernick
UID:e.1404.14471
SEQUENCE:3
DTSTAMP:20260426T033150Z
URL:https://members.kearneycoc.org/events/details/united-way-dine-out-to-help-out-14471
END:VEVENT

END:VCALENDAR
