BEGIN:VCALENDAR
VERSION:2.0
PRODID:-//ChamberMaster//Event Calendar 2.0//EN
METHOD:PUBLISH
X-PUBLISHED-TTL:P3D
REFRESH-INTERVAL:P3D
CALSCALE:GREGORIAN
BEGIN:VEVENT
DTSTART:20220201T233000Z
DTEND:20220202T020000Z
X-MICROSOFT-CDO-ALLDAYEVENT:FALSE
SUMMARY:United Way Dine Out to Help Out Event
DESCRIPTION:You're invited! Dine Out to Help Out local restaurants and United Way.\n\n\n\nUnited Way of the Kearney Area is hosting Dine Out to Help Out Events at local restaurants to raise money for United Way of the Kearney Area. You can designate a portion of your tips to United Way who supports the work of 21 local Partner Agency Programs.\n\nTuesday\, February 1st will be the third Dine Out Event this year and will be held at both Cunningham's Journal locations from 5:30 p.m. to 8:00 p.m. A team of United Way guest servers will help serve food\, converse with customers\, and help raise money for this year's campaign.\n\nAll community members are welcome to attend\, enjoy a nice evening out\, and find out how United Way of the Kearney Area helps support our community and Partner Agencies in the area. There will be raffle items at each location during this event.\n\nFor more information about United Way of the Kearney Area please visit www.uwka.org\, or follow us on Facebook.
X-ALT-DESC;FMTTYPE=text/html:<p><span style="color:#0000CD"><span style="font-size:14px"><span style="font-family:arial\,helvetica\,sans-serif"><strong>You&#39\;re invited! Dine Out to Help Out local restaurants and United Way.</strong></span></span></span><br />\n<br />\nUnited Way of the Kearney Area is hosting Dine Out to Help Out Events at local restaurants to raise money for United Way of the Kearney Area. You can designate a portion of your tips to United Way who supports the work of 21 local Partner Agency Programs.</p>\n\n<p>Tuesday\, February 1st will be the third Dine Out Event this year and will be held at <strong><em>both</em></strong> Cunningham&#39\;s Journal locations from 5:30 p.m. to 8:00 p.m. A team of United Way guest servers will help serve food\, converse with customers\, and help raise money for this year&#39\;s campaign.</p>\n\n<p>All community members are welcome to attend\, enjoy a nice evening out\, and find out how United Way of the Kearney Area helps support our community and Partner Agencies in the area. There will be raffle items at each location during this event.</p>\n\n<p>For more information about United Way of the Kearney Area please visit www.uwka.org\, or follow us on Facebook.</p>\n
LOCATION:Cunningham's Journal - Downtown: 15 W 23rd Street\, Kearney\, NE 68847 Cunningham's Journal - On The Lake: 610 Talmadge St. Suite A\, Kearney\, NE 68845
UID:e.1404.19633
SEQUENCE:3
DTSTAMP:20260423T181119Z
URL:https://members.kearneycoc.org/events/details/united-way-dine-out-to-help-out-event-19633
END:VEVENT

END:VCALENDAR
