BEGIN:VCALENDAR
VERSION:2.0
PRODID:-//ChamberMaster//Event Calendar 2.0//EN
METHOD:PUBLISH
X-PUBLISHED-TTL:P3D
REFRESH-INTERVAL:P3D
CALSCALE:GREGORIAN
BEGIN:VEVENT
DTSTART;VALUE=DATE:20210118
DTEND;VALUE=DATE:20210123
TRANSP:TRANSPARENT
X-MICROSOFT-CDO-ALLDAYEVENT:TRUE
SUMMARY:United Way & Tri-City Storm Jersey Auction
DESCRIPTION:Join us for our annual United Way and Tri-City Storm LIVE Jersey Auction! This years auction will be held online at adammarshallauction.com but feel free to attend Friday nights game and support Tri-City Storm Hockey! Jerseys will be available for bidding starting January 18th until January 22nd just minutes after the game! All proceeds will benefit United Way of the Kearney Area.
X-ALT-DESC;FMTTYPE=text/html:Join us for our annual United Way and Tri-City Storm LIVE Jersey Auction! This years auction will be held online at adammarshallauction.com but feel free to attend Friday nights game and support Tri-City Storm Hockey! Jerseys will be available for bidding starting January 18th until January 22nd just minutes after the game! All proceeds will benefit United Way of the Kearney Area.
LOCATION:Viaero Center 609 Platte Rd\, Kearney\, NE\, 68847
UID:e.1404.19068
SEQUENCE:3
DTSTAMP:20260424T160022Z
URL:https://members.kearneycoc.org/events/details/united-way-tri-city-storm-jersey-auction-19068
END:VEVENT

END:VCALENDAR
