BEGIN:VCALENDAR
VERSION:2.0
PRODID:-//ChamberMaster//Event Calendar 2.0//EN
METHOD:PUBLISH
X-PUBLISHED-TTL:P3D
REFRESH-INTERVAL:P3D
CALSCALE:GREGORIAN
BEGIN:VEVENT
DTSTART:20160924T160000Z
DTEND:20160924T180000Z
X-MICROSOFT-CDO-ALLDAYEVENT:FALSE
SUMMARY:UNK Alumni Assc Loper Luncheon
DESCRIPTION:The community is invited to the UNK Alumni Association homecoming BBQ immediately following the parade.
X-ALT-DESC;FMTTYPE=text/html:The community is invited to the UNK Alumni Association homecoming BBQ immediately following the parade.
LOCATION:UNK Alumni House\, 2222 9th Avenue\, Kearney
UID:e.1404.8968
SEQUENCE:3
DTSTAMP:20260421T153029Z
URL:https://members.kearneycoc.org/events/details/unk-alumni-assc-loper-luncheon-09-24-2016-8968
END:VEVENT

END:VCALENDAR
