BEGIN:VCALENDAR
VERSION:2.0
PRODID:-//ChamberMaster//Event Calendar 2.0//EN
METHOD:PUBLISH
X-PUBLISHED-TTL:P3D
REFRESH-INTERVAL:P3D
CALSCALE:GREGORIAN
BEGIN:VEVENT
DTSTART:20160409T140000Z
DTEND:20160409T170000Z
X-MICROSOFT-CDO-ALLDAYEVENT:FALSE
SUMMARY:UNK Bike Bowl
DESCRIPTION:The 37th Annual UNK Bike Bowl is April 9th at the Nebraska Safety Center\, 1801 W Railroad St\, Kearney. The racing begins at 9 a.m. with alumni/community teams (25-mile race)\, immediately followed by UNK student teams (15-mile race). Teams can register at unkalumni.org/bikebowl.
X-ALT-DESC;FMTTYPE=text/html:The 37th Annual UNK Bike Bowl is April 9th at the Nebraska Safety Center\, 1801 W Railroad St\, Kearney. The racing begins at 9 a.m. with alumni/community teams (25-mile race)\, immediately followed by UNK student teams (15-mile race). Teams can register at unkalumni.org/bikebowl.
LOCATION:Nebraska Safety Center\, 1801 W Railroad St\, Kearney
UID:e.1404.7533
SEQUENCE:3
DTSTAMP:20260421T215756Z
URL:https://members.kearneycoc.org/events/details/unk-bike-bowl-04-09-2016-7533
END:VEVENT

END:VCALENDAR
