BEGIN:VCALENDAR
VERSION:2.0
PRODID:-//ChamberMaster//Event Calendar 2.0//EN
METHOD:PUBLISH
X-PUBLISHED-TTL:P3D
REFRESH-INTERVAL:P3D
CALSCALE:GREGORIAN
BEGIN:VEVENT
DTSTART:20191112T013000Z
DTEND:20191112T023000Z
X-MICROSOFT-CDO-ALLDAYEVENT:FALSE
SUMMARY:UNK Chamber Orchestra Concert
DESCRIPTION:Come 'Join in the Music' as the UNK Chamber Orchestra gives a concert. This ensemble provides opportunities for string students to advance their knowledge and performance skills in string orchestra literature. The repertoire performed focuses on the standard string ensemble works throughout the centuries. This concert will be live streamed at the following link: http://www.unk.edu/academics/music/performing-art-live-stream-events.php
X-ALT-DESC;FMTTYPE=text/html:Come &#39\;Join in the Music&#39\; as the UNK Chamber Orchestra gives a concert. This ensemble provides opportunities for string students to advance their knowledge and performance skills in string orchestra literature. The repertoire performed focuses on the standard string ensemble works throughout the centuries. This concert will be live streamed at the following link: http://www.unk.edu/academics/music/performing-art-live-stream-events.php
LOCATION:UNK FAB Recital Hall
UID:e.1404.16628
SEQUENCE:3
DTSTAMP:20260425T163938Z
URL:https://members.kearneycoc.org/events/details/unk-chamber-orchestra-concert-16628
END:VEVENT

END:VCALENDAR
