BEGIN:VCALENDAR
VERSION:2.0
PRODID:-//ChamberMaster//Event Calendar 2.0//EN
METHOD:PUBLISH
X-PUBLISHED-TTL:P3D
REFRESH-INTERVAL:P3D
CALSCALE:GREGORIAN
BEGIN:VEVENT
DTSTART;VALUE=DATE:20130717
DTEND;VALUE=DATE:20130719
TRANSP:TRANSPARENT
X-MICROSOFT-CDO-ALLDAYEVENT:TRUE
SUMMARY:UNk College ID Camp - Girls Only
DESCRIPTION:Date: July17th & 18th\, 2013\n\nTime: 12:00 - 2:00 PM\, Lunch Break\, 3:00 PM - 5:00 PM\n\nLocation: UNK\, Cope Stadium\n\nCost:  $95 dollars for both\n\nLIMITED SPACE\n\n*$10 discount per additional family member
X-ALT-DESC;FMTTYPE=text/html:<strong style="color: rgb(0\, 0\, 0)\; font-family: Arial\, Helvetica\, sans-serif\; text-align: center\;"><span style="font-size: medium\;"><span style="font-family: Arial\;">Date:&nbsp\;</span></span></strong><span style="color: rgb(0\, 0\, 0)\; font-family: Arial\, Helvetica\, sans-serif\; text-align: center\; font-size: medium\;"><span style="font-family: Arial\;">July17th &amp\; 18th\, 2013<br />\n<strong>Time:&nbsp\;</strong>12:00 - 2:00 PM\, Lunch Break\, 3:00 PM - 5:00 PM<br />\n<strong>Location:&nbsp\;</strong>UNK\, Cope Stadium</span></span><br style="color: rgb(0\, 0\, 0)\; font-family: Arial\, Helvetica\, sans-serif\; text-align: center\;" />\n<strong style="color: rgb(0\, 0\, 0)\; font-family: Arial\, Helvetica\, sans-serif\; text-align: center\;"><span style="font-size: medium\;"><span style="font-family: Arial\;">Cost:</span></span></strong><span style="color: rgb(0\, 0\, 0)\; font-family: Arial\, Helvetica\, sans-serif\; text-align: center\; font-size: medium\;"><span style="font-family: Arial\;">&nbsp\; $95 dollars for both</span></span><br style="color: rgb(0\, 0\, 0)\; font-family: Arial\, Helvetica\, sans-serif\; text-align: center\;" />\n<span style="font-family: Arial\, Helvetica\, sans-serif\; text-align: center\; color: rgb(255\, 0\, 0)\;"><strong>LIMITED SPACE</strong></span><br style="color: rgb(0\, 0\, 0)\; font-family: Arial\, Helvetica\, sans-serif\; text-align: center\;" />\n<strong style="color: rgb(0\, 0\, 0)\; font-family: Arial\, Helvetica\, sans-serif\; text-align: center\;"><em><span style="font-size: 16px\;">*$10 discount per additional family member</span></em></strong>
LOCATION:
UID:e.1404.2264
SEQUENCE:3
DTSTAMP:20260424T060945Z
URL:https://members.kearneycoc.org/events/details/unk-college-id-camp-girls-only-07-17-2013-2264
END:VEVENT

END:VCALENDAR
