BEGIN:VCALENDAR
VERSION:2.0
PRODID:-//ChamberMaster//Event Calendar 2.0//EN
METHOD:PUBLISH
X-PUBLISHED-TTL:P3D
REFRESH-INTERVAL:P3D
CALSCALE:GREGORIAN
BEGIN:VEVENT
DTSTART;VALUE=DATE:20130829
DTEND;VALUE=DATE:20130830
TRANSP:TRANSPARENT
X-MICROSOFT-CDO-ALLDAYEVENT:TRUE
SUMMARY:UNK Destination Downtown "On the Bricks"
DESCRIPTION:Destination Downtown is an annual event that happens during the first week of class in the fall and is built to introduce UNK students to The Bricks. There will be local food\, games\, giveaways\, local music and more.
X-ALT-DESC;FMTTYPE=text/html:<span style="font-family:arial\,sans-serif\;"><span style="font-size:10.0pt\;">Destination Downtown is an annual event that happens during the first week of class in the fall and is built to introduce UNK students to The Bricks. There will be local food\, games\, giveaways\, local music and more.</span></span>
LOCATION:Downtown Kearney
UID:e.1404.3299
SEQUENCE:3
DTSTAMP:20260424T060738Z
URL:https://members.kearneycoc.org/events/details/unk-destination-downtown-on-the-bricks-08-29-2013-3299
END:VEVENT

END:VCALENDAR
