BEGIN:VCALENDAR
VERSION:2.0
PRODID:-//ChamberMaster//Event Calendar 2.0//EN
METHOD:PUBLISH
X-PUBLISHED-TTL:P3D
REFRESH-INTERVAL:P3D
CALSCALE:GREGORIAN
BEGIN:VEVENT
DTSTART:20200127T233000Z
DTEND:20200128T023000Z
X-MICROSOFT-CDO-ALLDAYEVENT:FALSE
SUMMARY:UNK Honor Band and Choral Clinic Concert
DESCRIPTION:Join us at the UNK Health and Sports Center Arena for the 2020 Honor Band and Choral Clinic Concert. This concert features high school musicians from around the state performing in 2 bands and 3 choirs. Ensembles from UNK will also give performances. Tickets for the Honor Band & Choral Clinic are available to purchase.
X-ALT-DESC;FMTTYPE=text/html:Join us at the UNK Health and Sports Center Arena for the 2020 Honor Band and Choral Clinic Concert. This concert features high school musicians from around the state performing in 2 bands and 3 choirs. Ensembles from UNK will also give performances. Tickets for the Honor Band &amp\; Choral Clinic are available to purchase.
LOCATION:UNK Health and Sports Center Arena
UID:e.1404.18314
SEQUENCE:3
DTSTAMP:20260425T133359Z
URL:https://members.kearneycoc.org/events/details/unk-honor-band-and-choral-clinic-concert-18314
END:VEVENT

END:VCALENDAR
