BEGIN:VCALENDAR
VERSION:2.0
PRODID:-//ChamberMaster//Event Calendar 2.0//EN
METHOD:PUBLISH
X-PUBLISHED-TTL:P3D
REFRESH-INTERVAL:P3D
CALSCALE:GREGORIAN
BEGIN:VEVENT
DTSTART:20191101T003000Z
DTEND:20191101T020000Z
X-MICROSOFT-CDO-ALLDAYEVENT:FALSE
SUMMARY:UNK Jazz/Rock Concert
DESCRIPTION:The UNK Jazz/Rock Ensemble serves as a laboratory for music students to hone their jazz performance skills and as a small ensemble for university students who want to play big band jazz. This concert will be live streamed at the following link: http://www.unk.edu/academics/music/performing-art-live-stream-events.php
X-ALT-DESC;FMTTYPE=text/html:The UNK Jazz/Rock Ensemble serves as a laboratory for music students to hone their jazz performance skills and as a small ensemble for university students who want to play big band jazz. This concert will be live streamed at the following link: http://www.unk.edu/academics/music/performing-art-live-stream-events.php
LOCATION:UNK FAB Recital Hall
UID:e.1404.16630
SEQUENCE:3
DTSTAMP:20260425T163859Z
URL:https://members.kearneycoc.org/events/details/unk-jazz-rock-concert-16630
END:VEVENT

END:VCALENDAR
