BEGIN:VCALENDAR
VERSION:2.0
PRODID:-//ChamberMaster//Event Calendar 2.0//EN
METHOD:PUBLISH
X-PUBLISHED-TTL:P3D
REFRESH-INTERVAL:P3D
CALSCALE:GREGORIAN
BEGIN:VEVENT
DTSTART:20190409T000000Z
DTEND:20190409T020000Z
X-MICROSOFT-CDO-ALLDAYEVENT:FALSE
SUMMARY:UNK - Justice Week
DESCRIPTION:UNK - International Justice Week\n\nFighting Human Trafficking in Nebraska\, featuring Nebraska Attorney General\, Doug Peterson.
X-ALT-DESC;FMTTYPE=text/html:UNK - International Justice Week<br />\nFighting Human Trafficking in Nebraska\, featuring Nebraska Attorney General\, Doug Peterson.<br />\n&nbsp\;
LOCATION:Ponderosa Room\, Nebraskan Student Union
UID:e.1404.15421
SEQUENCE:3
DTSTAMP:20260426T020254Z
URL:https://members.kearneycoc.org/events/details/unk-justice-week-15421
END:VEVENT

END:VCALENDAR
