BEGIN:VCALENDAR
VERSION:2.0
PRODID:-//ChamberMaster//Event Calendar 2.0//EN
METHOD:PUBLISH
X-PUBLISHED-TTL:P3D
REFRESH-INTERVAL:P3D
CALSCALE:GREGORIAN
BEGIN:VEVENT
DTSTART:20191005T190000Z
DTEND:20191005T220000Z
X-MICROSOFT-CDO-ALLDAYEVENT:FALSE
SUMMARY:UNK Loper Football Game
DESCRIPTION:UNK Lopers vs. Northeastern State at Ron & Carol Cope Stadium at Foster Field\n\nUNK Homecoming
X-ALT-DESC;FMTTYPE=text/html:UNK Lopers vs. Northeastern State at Ron &amp\; Carol Cope Stadium at Foster Field<br />\nUNK Homecoming&nbsp\;
LOCATION:
UID:e.1404.17850
SEQUENCE:3
DTSTAMP:20260425T164028Z
URL:https://members.kearneycoc.org/events/details/unk-loper-football-game-10-05-2019-17850
END:VEVENT

END:VCALENDAR
