BEGIN:VCALENDAR
VERSION:2.0
PRODID:-//ChamberMaster//Event Calendar 2.0//EN
METHOD:PUBLISH
X-PUBLISHED-TTL:P3D
REFRESH-INTERVAL:P3D
CALSCALE:GREGORIAN
BEGIN:VEVENT
DTSTART:20191102T170000Z
DTEND:20191102T210000Z
X-MICROSOFT-CDO-ALLDAYEVENT:FALSE
SUMMARY:UNK Loper Football Game
DESCRIPTION:Loper Football vs.Central Missouri 12:00\, Ron & Carol Cope Stadium at Foster Field
X-ALT-DESC;FMTTYPE=text/html:Loper Football vs.Central Missouri 12:00\, Ron &amp\; Carol Cope Stadium at Foster Field
LOCATION:
UID:e.1404.17860
SEQUENCE:3
DTSTAMP:20260425T150150Z
URL:https://members.kearneycoc.org/events/details/unk-loper-football-game-17860
END:VEVENT

END:VCALENDAR
