BEGIN:VCALENDAR
VERSION:2.0
PRODID:-//ChamberMaster//Event Calendar 2.0//EN
METHOD:PUBLISH
X-PUBLISHED-TTL:P3D
REFRESH-INTERVAL:P3D
CALSCALE:GREGORIAN
BEGIN:VEVENT
DTSTART:20191109T013000Z
DTEND:20191109T023000Z
X-MICROSOFT-CDO-ALLDAYEVENT:FALSE
SUMMARY:UNK New Music Ensemble Concert
DESCRIPTION:Come 'Join in the Music' as our New Music Ensemble gives a concert. This event will be live streamed at the following link: http://www.unk.edu/academics/music/performing-art-live-stream-events.php
X-ALT-DESC;FMTTYPE=text/html:Come &#39\;Join in the Music&#39\; as our New Music Ensemble gives a concert. This event will be live streamed at the following link: http://www.unk.edu/academics/music/performing-art-live-stream-events.php
LOCATION:UNK FAB Recital Hall
UID:e.1404.16631
SEQUENCE:3
DTSTAMP:20260425T163959Z
URL:https://members.kearneycoc.org/events/details/unk-new-music-ensemble-concert-16631
END:VEVENT

END:VCALENDAR
