BEGIN:VCALENDAR
VERSION:2.0
PRODID:-//ChamberMaster//Event Calendar 2.0//EN
METHOD:PUBLISH
X-PUBLISHED-TTL:P3D
REFRESH-INTERVAL:P3D
CALSCALE:GREGORIAN
BEGIN:VEVENT
DTSTART:20190913T003000Z
DTEND:20190913T020000Z
X-MICROSOFT-CDO-ALLDAYEVENT:FALSE
SUMMARY:UNK New Music Series: Hub New Music
DESCRIPTION:Called "contemporary chamber trailblazers" by the Boston Globe\, Hub New Music   comprised of flute\, clarinet\, violin\, and cello   is forging new pathways in 21st-century repertoire. Through creative programming and ambitious commissioning projects\, the quartet of "intrepids" (WQXR) celebrates the fluidity and diversity of today's classical music landscape. Its performances have been described as "gobsmacking" (Cleveland Classical) and "innovative" (WBUR). This event will be live streamed at the following link: http://www.unk.edu/academics/music/performing-art-live-stream-events.php
X-ALT-DESC;FMTTYPE=text/html:Called &ldquo\;contemporary chamber trailblazers&rdquo\; by the Boston Globe\, Hub New Music &mdash\; comprised of flute\, clarinet\, violin\, and cello &mdash\; is forging new pathways in 21st-century repertoire. Through creative programming and ambitious commissioning projects\, the quartet of &ldquo\;intrepids&rdquo\; (WQXR) celebrates the fluidity and diversity of today&rsquo\;s classical music landscape. Its performances have been described as &ldquo\;gobsmacking&rdquo\; (Cleveland Classical) and &ldquo\;innovative&rdquo\; (WBUR). This event will be live streamed at the following link: http://www.unk.edu/academics/music/performing-art-live-stream-events.php
LOCATION:UNK FAB Recital Hall
UID:e.1404.16620
SEQUENCE:3
DTSTAMP:20260425T181141Z
URL:https://members.kearneycoc.org/events/details/unk-new-music-series-hub-new-music-16620
END:VEVENT

END:VCALENDAR
