BEGIN:VCALENDAR
VERSION:2.0
PRODID:-//ChamberMaster//Event Calendar 2.0//EN
METHOD:PUBLISH
X-PUBLISHED-TTL:P3D
REFRESH-INTERVAL:P3D
CALSCALE:GREGORIAN
BEGIN:VEVENT
DTSTART:20191107T013000Z
DTEND:20191107T030000Z
X-MICROSOFT-CDO-ALLDAYEVENT:FALSE
SUMMARY:UNK New Music Series: Ken Thomson Sextet
DESCRIPTION:Join us at the FAB for the third concert in the New Music Series\, performed by the Ken Thomson Sextet. This concert is FREE and open to the public!
X-ALT-DESC;FMTTYPE=text/html:Join us at the FAB for the third concert in the New Music Series\, performed by the Ken Thomson Sextet. This concert is FREE and open to the public!
LOCATION:UNK FAB Recital Hall
UID:e.1404.18245
SEQUENCE:3
DTSTAMP:20260425T150415Z
URL:https://members.kearneycoc.org/events/details/unk-new-music-series-ken-thomson-sextet-18245
END:VEVENT

END:VCALENDAR
