BEGIN:VCALENDAR
VERSION:2.0
PRODID:-//ChamberMaster//Event Calendar 2.0//EN
METHOD:PUBLISH
X-PUBLISHED-TTL:P3D
REFRESH-INTERVAL:P3D
CALSCALE:GREGORIAN
BEGIN:VEVENT
DTSTART:20190928T003000Z
DTEND:20190928T020000Z
X-MICROSOFT-CDO-ALLDAYEVENT:FALSE
SUMMARY:UNK New Music Series: Lisa Neher\, mezzo-soprano
DESCRIPTION:Portland\, Oregon mezzo-soprano and composer Lisa Neher (DMA) thrives in the crossroads of the concert hall and the theatre stage. Trained as a stage actress\, she is equally at home in the worlds of opera and spoken theatre\, bringing dramatic specificity and committed physicality to her performances. Lisa performs with Resonance Vocal Ensemble in Portland and is in high demand as a concert soloist. Her credits include Durufl 's Requiem\, Mozart's Requiem\, Vesperae Solennes de Confessore\, and Coronation Mass\, Bach's Magnificat and Ascension Oratorio\, and Arvo Part's P ssio. A composer and contemporary music specialist\, Lisa is a fearless performer of new works. She premiered the leading role of Jennifer in Rita Ueda's chamber opera One Thousand White Paper Cranes for Japan with the Singaporean ensemble Chamber Sounds. Lisa was recently heard at New Music Gathering in Boston\, the Iowa Composer's Forum\, and the International Saxophone Symposium\, where she premiered her own chamber-vocal work When My Daughter Asked Why There Are Stars\, I Said with Resonance Saxophone Orchestra. For more information\, visit her website\, www.lisanehermusic.com. This event will be live streamed at the following link: http://www.unk.edu/academics/music/performing-art-live-stream-events.php
X-ALT-DESC;FMTTYPE=text/html:Portland\, Oregon mezzo-soprano and composer Lisa Neher (DMA) thrives in the crossroads of the concert hall and the theatre stage. Trained as a stage actress\, she is equally at home in the worlds of opera and spoken theatre\, bringing dramatic specificity and committed physicality to her performances. Lisa performs with Resonance Vocal Ensemble in Portland and is in high demand as a concert soloist. Her credits include Durufl&eacute\;&rsquo\;s Requiem\, Mozart&rsquo\;s Requiem\, Vesperae Solennes de Confessore\, and Coronation Mass\, Bach&rsquo\;s Magnificat and Ascension Oratorio\, and Arvo Part&rsquo\;s P&auml\;ssio. A composer and contemporary music specialist\, Lisa is a fearless performer of new works. She premiered the leading role of Jennifer in Rita Ueda&rsquo\;s chamber opera One Thousand White Paper Cranes for Japan with the Singaporean ensemble Chamber Sounds. Lisa was recently heard at New Music Gathering in Boston\, the Iowa Composer&rsquo\;s Forum\, and the International Saxophone Symposium\, where she premiered her own chamber-vocal work When My Daughter Asked Why There Are Stars\, I Said with Resonance Saxophone Orchestra. For more information\, visit her website\, www.lisanehermusic.com. This event will be live streamed at the following link: http://www.unk.edu/academics/music/performing-art-live-stream-events.php
LOCATION:UNK FAB Recital Hall
UID:e.1404.17880
SEQUENCE:3
DTSTAMP:20260425T181107Z
URL:https://members.kearneycoc.org/events/details/unk-new-music-series-lisa-neher-mezzo-soprano-17880
END:VEVENT

END:VCALENDAR
