BEGIN:VCALENDAR
VERSION:2.0
PRODID:-//ChamberMaster//Event Calendar 2.0//EN
METHOD:PUBLISH
X-PUBLISHED-TTL:P3D
REFRESH-INTERVAL:P3D
CALSCALE:GREGORIAN
BEGIN:VEVENT
DTSTART:20191010T173000Z
DTEND:20191010T183000Z
X-MICROSOFT-CDO-ALLDAYEVENT:FALSE
SUMMARY:UNK Thursday Student Recital: Concerto/Aria Competition
DESCRIPTION:Come 'Join in the Music'! In this recital\, student competitors perform for a jury of UNK music faculty. Selected winners will earn the privilege of performing with one of the premier large instrumental ensembles at UNK (Kearney Symphony Orchestra or Wind Ensemble) in the following spring semester. Recitals will be live streamed at the following link: http://www.unk.edu/academics/music/performing-art-live-stream-events.php
X-ALT-DESC;FMTTYPE=text/html:Come &#39\;Join in the Music&#39\;! In this recital\, student competitors perform for a jury of UNK music faculty. Selected winners will earn the privilege of performing with one of the premier large instrumental ensembles at UNK (Kearney Symphony Orchestra or Wind Ensemble) in the following spring semester. Recitals will be live streamed at the following link: http://www.unk.edu/academics/music/performing-art-live-stream-events.php
LOCATION:UNK FAB Recital Hall
UID:e.1404.16623
SEQUENCE:3
DTSTAMP:20260425T164028Z
URL:https://members.kearneycoc.org/events/details/unk-thursday-student-recital-concerto-aria-competition-16623
END:VEVENT

END:VCALENDAR
