BEGIN:VCALENDAR
VERSION:2.0
PRODID:-//ChamberMaster//Event Calendar 2.0//EN
METHOD:PUBLISH
X-PUBLISHED-TTL:P3D
REFRESH-INTERVAL:P3D
CALSCALE:GREGORIAN
BEGIN:VEVENT
DTSTART:20150916T013000Z
DTEND:20150916T030000Z
X-MICROSOFT-CDO-ALLDAYEVENT:FALSE
SUMMARY:UNK Trivia Night - KSC & UNK Trivia
DESCRIPTION:
X-ALT-DESC;FMTTYPE=text/html:
LOCATION:The Chicken Coop basement 2115 Ave. A
UID:e.1404.6687
SEQUENCE:3
DTSTAMP:20260422T114558Z
URL:https://members.kearneycoc.org/events/details/unk-trivia-night-ksc-unk-trivia-09-15-2015-6687
END:VEVENT

END:VCALENDAR
