BEGIN:VCALENDAR
VERSION:2.0
PRODID:-//ChamberMaster//Event Calendar 2.0//EN
METHOD:PUBLISH
X-PUBLISHED-TTL:P3D
REFRESH-INTERVAL:P3D
CALSCALE:GREGORIAN
BEGIN:VEVENT
DTSTART:20200223T210000Z
DTEND:20200223T223000Z
X-MICROSOFT-CDO-ALLDAYEVENT:FALSE
SUMMARY:UNK Winter Choir Concert
DESCRIPTION:Join us at the FAB as UNK choirs give a concert. This event is free and will be livestreamed at: http://www.unk.edu/academics/music/performing-art-live-stream-events.php
X-ALT-DESC;FMTTYPE=text/html:Join us at the FAB as UNK choirs give a concert. This event is free and will be livestreamed at: http://www.unk.edu/academics/music/performing-art-live-stream-events.php
LOCATION:UNK FAB Recital Hall
UID:e.1404.18364
SEQUENCE:3
DTSTAMP:20260425T113159Z
URL:https://members.kearneycoc.org/events/details/unk-winter-choir-concert-18364
END:VEVENT

END:VCALENDAR
