BEGIN:VCALENDAR
VERSION:2.0
PRODID:-//ChamberMaster//Event Calendar 2.0//EN
METHOD:PUBLISH
X-PUBLISHED-TTL:P3D
REFRESH-INTERVAL:P3D
CALSCALE:GREGORIAN
BEGIN:VEVENT
DTSTART:20190209T161500Z
DTEND:20190302T061500Z
X-MICROSOFT-CDO-ALLDAYEVENT:FALSE
SUMMARY:Untutored Life Drawing Class
DESCRIPTION:Untutored Life Drawing Class This untutored life drawing class offers access to experienced models in a relaxed atmosphere. No instruction is offered at these sessions\, which are aimed at anyone wishing to develop his or her drawing skills. Poses are timed and moderated. Easels and drawing boards are provided\; participants bring their own paper and drawing supplies. Saturdays: February 9\, 16\, 23\, March 2 Saturdays: April 6\, 13\, 20\, 27 Time: 10:15 a.m.-12:15 p.m. Age: 18+ Cost: $48 for each four-class session (members)\, $58 (non-members) Register by: Friday\, February 8 (Session 1)\; Friday\, April 5 (Session 2)\; full payment is required in advance to pay for model.
X-ALT-DESC;FMTTYPE=text/html:Untutored Life Drawing Class This untutored life drawing class offers access to experienced models in a relaxed atmosphere. No instruction is offered at these sessions\, which are aimed at anyone wishing to develop his or her drawing skills. Poses are timed and moderated. Easels and drawing boards are provided\; participants bring their own paper and drawing supplies. Saturdays: February 9\, 16\, 23\, March 2 Saturdays: April 6\, 13\, 20\, 27 Time: 10:15 a.m.-12:15 p.m. Age: 18+ Cost: $48 for each four-class session (members)\, $58 (non-members) Register by: Friday\, February 8 (Session 1)\; Friday\, April 5 (Session 2)\; full payment is required in advance to pay for model.
LOCATION:Museum of Nebraska Art 2401 Central Avenue Kearney\, NE 68847
UID:e.1404.14417
SEQUENCE:3
DTSTAMP:20260426T033114Z
URL:https://members.kearneycoc.org/events/details/untutored-life-drawing-class-02-09-2019-14417
END:VEVENT

END:VCALENDAR
