BEGIN:VCALENDAR
VERSION:2.0
PRODID:-//ChamberMaster//Event Calendar 2.0//EN
METHOD:PUBLISH
X-PUBLISHED-TTL:P3D
REFRESH-INTERVAL:P3D
CALSCALE:GREGORIAN
BEGIN:VEVENT
DTSTART:20130209T000000Z
DTEND:20130209T050000Z
X-MICROSOFT-CDO-ALLDAYEVENT:FALSE
SUMMARY:Valentine's Night Out
DESCRIPTION:Tickets on sale NOW for the 23rd annual Valentine's Night Out event!\n\n	Enjoy an evening of fabulous food and fun - from blackjack and Texas Hold-em tables\, to bingo\, to silent auction items. Don't miss the Valentine's Night Out event on Friday\, February 8 at the Younes Conference Center. Tickets are only $30/person which includes your dinner\, an entry into the $1\,000 grand prize drawing and cash drawings throughout the night! Come join the fun and help support the KCHS activities! Call 308.627.5153 or stop in the KCHS office to purchase your tickets!
X-ALT-DESC;FMTTYPE=text/html:<p class="MsoNormal" style="margin: 0in 0in 10pt">\n	<font color="#000000" size="3">Tickets on sale NOW for the 23rd annual Valentine&#39\;s Night Out event!</font></p>\n<p class="MsoNormal" style="margin: 0in 0in 10pt">\n	<font color="#000000" size="3">Enjoy an evening of fabulous food and fun - from blackjack and Texas Hold-em tables\, to bingo\, to silent auction items. Don&#39\;t miss the Valentine&#39\;s Night Out event on Friday\, February 8 at the Younes Conference Center. Tickets are only $30/person which includes your dinner\, an entry into the $1\,000 grand prize drawing and cash drawings throughout the night! Come join the fun and help support the KCHS activities! Call 308.627.5153 or stop in the KCHS office to purchase your tickets!</font></p>\n
LOCATION:Younes Conference Center
UID:e.1404.2229
SEQUENCE:3
DTSTAMP:20260424T155805Z
URL:https://members.kearneycoc.org/events/details/valentine-s-night-out-02-08-2013-2229
END:VEVENT

END:VCALENDAR
