BEGIN:VCALENDAR
VERSION:2.0
PRODID:-//ChamberMaster//Event Calendar 2.0//EN
METHOD:PUBLISH
X-PUBLISHED-TTL:P3D
REFRESH-INTERVAL:P3D
CALSCALE:GREGORIAN
BEGIN:VEVENT
DTSTART:20190623T190000Z
DTEND:20190623T210000Z
X-MICROSOFT-CDO-ALLDAYEVENT:FALSE
SUMMARY:Vertigo - The World Theatre
DESCRIPTION:A retired San Francisco detective suffering from acrophobia investigates the strange activities of an old friend's wife\, all the while becoming dangerously obsessed with her.
X-ALT-DESC;FMTTYPE=text/html:A retired San Francisco detective suffering from acrophobia investigates the strange activities of an old friend&#39\;s wife\, all the while becoming dangerously obsessed with her.
LOCATION:The World Theatre 2318 Central Avenue Kearney NE 68847
UID:e.1404.16529
SEQUENCE:3
DTSTAMP:20260425T231235Z
URL:https://members.kearneycoc.org/events/details/vertigo-the-world-theatre-06-23-2019-16529
END:VEVENT

END:VCALENDAR
