BEGIN:VCALENDAR
VERSION:2.0
PRODID:-//ChamberMaster//Event Calendar 2.0//EN
METHOD:PUBLISH
X-PUBLISHED-TTL:P3D
REFRESH-INTERVAL:P3D
CALSCALE:GREGORIAN
BEGIN:VEVENT
DTSTART:20210603T220000Z
DTEND:20210604T000000Z
X-MICROSOFT-CDO-ALLDAYEVENT:FALSE
SUMMARY:Very Important Party
DESCRIPTION:Downtown Kearney invites you to celebrate their 30-year membership with the Kearney Area Chamber of Commerce on Thursday\, June 3rd from 5-7 PM! This free passport event includes 18 stops that showcase some of the businesses that make Kearney's historic district what it is\, light refreshments\, specials and a chance to win one of 30 prizes. The businesses' partnership with downtown and downtown's partnership with the Chamber have helped them succeed and this is a way for them to say thank you. We hope to see you there!\n\n\n\nParticipating businesses include Bow & Arrow Boutique\, the Denim Bar Boutique\, Divas Floral Shop & Boutique\, Edith Joi Boutique\, Fanci That\, Hello Beautiful Bridal & Formal Wear\, Holistic Healing Spa & Bohemian Boutique\, Home Within\, Ktown Cakery\, Lucky Dog's Place\, Paint Paradise\, the Rustic Patch\, the Solid Rock\, Suite Child\, Syndicate Games\, Tilted Tulip\, TRU Cafe and Wee Cycle.\n\n\n\nOn the night of the event\, passports can be picked up and dropped off at any location.
X-ALT-DESC;FMTTYPE=text/html:Downtown Kearney invites you to celebrate their 30-year membership with the Kearney Area Chamber of Commerce on Thursday\, June 3rd from 5-7 PM! This free passport event includes 18 stops that showcase some of the businesses that make Kearney&#39\;s historic district what it is\, light refreshments\, specials and a chance to win one of 30 prizes. The businesses&#39\; partnership with downtown and downtown&#39\;s partnership with the Chamber have helped them succeed and this is a way for them to say thank you. We hope to see you there!<br />\n<br />\nParticipating businesses include Bow &amp\; Arrow Boutique\, the Denim Bar Boutique\, Divas Floral Shop &amp\; Boutique\, Edith Joi Boutique\, Fanci That\, Hello Beautiful Bridal &amp\; Formal Wear\, Holistic Healing Spa &amp\; Bohemian Boutique\, Home Within\, Ktown Cakery\, Lucky Dog&rsquo\;s Place\, Paint Paradise\, the Rustic Patch\, the Solid Rock\, Suite Child\, Syndicate Games\, Tilted Tulip\, TRU Cafe and Wee Cycle.<br />\n<br />\n<span style="color:#050505\;"><span style="font-family:arial\,sans-serif\;">On the night of the event\, passports can be picked up and dropped off at any location.</span></span><br />\n&nbsp\;
LOCATION:Downtown Kearney
UID:e.1404.19308
SEQUENCE:3
DTSTAMP:20260424T060326Z
URL:https://members.kearneycoc.org/events/details/very-important-party-19308
END:VEVENT

END:VCALENDAR
