BEGIN:VCALENDAR
VERSION:2.0
PRODID:-//ChamberMaster//Event Calendar 2.0//EN
METHOD:PUBLISH
X-PUBLISHED-TTL:P3D
REFRESH-INTERVAL:P3D
CALSCALE:GREGORIAN
BEGIN:VEVENT
DTSTART:20211111T200000Z
DTEND:20211111T210000Z
X-MICROSOFT-CDO-ALLDAYEVENT:FALSE
SUMMARY:Veterans Memorial Dedication
DESCRIPTION:On Thursday\, November 11\, 2021\, at 2:00 p.m.\, the campus of the Central Nebraska Veterans Home will welcome visitors to a memorial honoring the sacrifices and dedication of our veterans in all conflicts since 1855.
X-ALT-DESC;FMTTYPE=text/html:<span style="font-size:14px\;"><span style="font-family:arial\;"><span style="background-color: rgb(243\, 243\, 243)\;">On Thursday\, November 11\, 2021\, at 2:00 p.m.\, the campus of the Central Nebraska Veterans Home will welcome visitors to a memorial honoring the sacrifices and dedication of our veterans in all conflicts since 1855.&nbsp\;&nbsp\;</span></span></span>
LOCATION:4510 E 56th St\, Kearney\, NE 68847
UID:e.1404.19401
SEQUENCE:3
DTSTAMP:20260423T214043Z
URL:https://members.kearneycoc.org/events/details/veterans-memorial-dedication-19401
END:VEVENT

END:VCALENDAR
