BEGIN:VCALENDAR
VERSION:2.0
PRODID:-//ChamberMaster//Event Calendar 2.0//EN
METHOD:PUBLISH
X-PUBLISHED-TTL:P3D
REFRESH-INTERVAL:P3D
CALSCALE:GREGORIAN
BEGIN:VEVENT
DTSTART:20151111T010000Z
DTEND:20151111T030000Z
X-MICROSOFT-CDO-ALLDAYEVENT:FALSE
SUMMARY:Vicki Lawrence and Mama
DESCRIPTION:Comedian Vicki Lawrence (Carol Burnett Show) is one of the most beloved television personalities of her generation. Vicki will bring herself and her most endearing character to date\, Thelma Harper\, or "Mama" as she is better known\, to her fans for a night full of laughter.
X-ALT-DESC;FMTTYPE=text/html:Comedian Vicki Lawrence (Carol Burnett Show) is one of the most beloved television personalities of her generation. Vicki will bring herself and her most endearing character to date\, Thelma Harper\, or &quot\;Mama&quot\; as she is better known\, to her fans for a night full of laughter.
LOCATION:Merryman Performing Arts Center
UID:e.1404.7036
SEQUENCE:3
DTSTAMP:20260422T064821Z
URL:https://members.kearneycoc.org/events/details/vicki-lawrence-and-mama-11-10-2015-7036
END:VEVENT

END:VCALENDAR
