BEGIN:VCALENDAR
VERSION:2.0
PRODID:-//ChamberMaster//Event Calendar 2.0//EN
METHOD:PUBLISH
X-PUBLISHED-TTL:P3D
REFRESH-INTERVAL:P3D
CALSCALE:GREGORIAN
BEGIN:VEVENT
DTSTART:20210429T220000Z
DTEND:20210430T000000Z
X-MICROSOFT-CDO-ALLDAYEVENT:FALSE
SUMMARY:VIP - Kinship Pointe Northridge and Leadership Kearney
DESCRIPTION:Join us for a VIP (Very Important Party) to celebrate the 20th Anniversary of Kinship Pointe Northridge - Kearney - Independent Living and Assisted Living\, and the 30th Anniversary of Leadership Kearney!
X-ALT-DESC;FMTTYPE=text/html:Join us for a VIP (Very Important Party) to celebrate the 20th Anniversary of <a href="https://kinshippointe.com/community/kinship-pointe-kearney-northridge/">Kinship Pointe Northridge - Kearney - Independent Living and Assisted Living</a>\, and the 30th Anniversary of&nbsp\;<a href="https://www.kearneycoc.org/leadership-kearney">Leadership Kearney</a>!
LOCATION:5410 17th Ave Kearney NE
UID:e.1404.19230
SEQUENCE:3
DTSTAMP:20260424T122700Z
URL:https://members.kearneycoc.org/events/details/vip-kinship-pointe-northridge-and-leadership-kearney-19230
END:VEVENT

END:VCALENDAR
