BEGIN:VCALENDAR
VERSION:2.0
PRODID:-//ChamberMaster//Event Calendar 2.0//EN
METHOD:PUBLISH
X-PUBLISHED-TTL:P3D
REFRESH-INTERVAL:P3D
CALSCALE:GREGORIAN
BEGIN:VEVENT
DTSTART:20210916T220000Z
DTEND:20210917T000000Z
X-MICROSOFT-CDO-ALLDAYEVENT:FALSE
SUMMARY:VIP - Yellow Van Cleaning Services
DESCRIPTION:Join us for a V.I.P. to help Yellow Van Cleaning Services celebrate their 40th Year in Business!
X-ALT-DESC;FMTTYPE=text/html:Join us for a V.I.P. to help <a href="https://yellowvan.com/">Yellow Van Cleaning Services</a> celebrate their 40th Year in Business!
LOCATION:206 E 6th St. Kearney NE
UID:e.1404.19248
SEQUENCE:3
DTSTAMP:20260424T003924Z
URL:https://members.kearneycoc.org/events/details/vip-yellow-van-cleaning-services-19248
END:VEVENT

END:VCALENDAR
