BEGIN:VCALENDAR
VERSION:2.0
PRODID:-//ChamberMaster//Event Calendar 2.0//EN
METHOD:PUBLISH
X-PUBLISHED-TTL:P3D
REFRESH-INTERVAL:P3D
CALSCALE:GREGORIAN
BEGIN:VEVENT
DTSTART:20211208T160000Z
DTEND:20211208T190000Z
X-MICROSOFT-CDO-ALLDAYEVENT:FALSE
SUMMARY:Walk In Wednesday
DESCRIPTION:Nebraska Department of Labor & Kearney Works are partnering for a workshop/hiring event - Each Wednesday\, December 1-22. The workshop is from 10:00-10:45am for job seekers to help instruct them on how to build an effective resume and/or improve their interviewing skills. The Hiring Event is from 11:00am-1:00pm - Registered businesses will discuss their business and job openings. Instant interviews are possible!
X-ALT-DESC;FMTTYPE=text/html:Nebraska Department of Labor &amp\; Kearney Works are partnering for a workshop/hiring event - Each Wednesday\, December 1-22. The workshop is from 10:00-10:45am for job seekers to help instruct them on how to build an effective resume and/or improve their interviewing skills. The Hiring Event is from 11:00am-1:00pm - Registered businesses will discuss their business and job openings. Instant interviews are possible!
LOCATION:315 W. 60th Street - Conference Room (Heritage Bank Plaza - South Side - Middle Doors)
UID:e.1404.19467
SEQUENCE:3
DTSTAMP:20260423T195436Z
URL:https://members.kearneycoc.org/events/details/walk-in-wednesday-12-08-2021-19467
END:VEVENT

END:VCALENDAR
