BEGIN:VCALENDAR
VERSION:2.0
PRODID:-//ChamberMaster//Event Calendar 2.0//EN
METHOD:PUBLISH
X-PUBLISHED-TTL:P3D
REFRESH-INTERVAL:P3D
CALSCALE:GREGORIAN
BEGIN:VEVENT
DTSTART:20211222T160000Z
DTEND:20211222T190000Z
X-MICROSOFT-CDO-ALLDAYEVENT:FALSE
SUMMARY:Walk In Wednesday
DESCRIPTION:Nebraska Department of Labor & Kearney Works are partnering for a workshop/hiring event. Workshop is from 10:00am-10:45am for Job seekers to build an effective resume and/or improve interviewing skills. Hiring event is from 11:00am-1:00pm. Registered businesses will discuss their business and job openings with job seekers. Instant Interviews are possible!
X-ALT-DESC;FMTTYPE=text/html:Nebraska Department of Labor &amp\; Kearney Works are partnering for a workshop/hiring event. Workshop is from 10:00am-10:45am for Job seekers to build an effective resume and/or improve interviewing skills. Hiring event is from 11:00am-1:00pm. Registered businesses will discuss their business and job openings with job seekers. Instant Interviews are possible!
LOCATION:315 W. 60th Street - Conference Room
UID:e.1404.19469
SEQUENCE:3
DTSTAMP:20260423T195622Z
URL:https://members.kearneycoc.org/events/details/walk-in-wednesday-12-22-2021-19469
END:VEVENT

END:VCALENDAR
