BEGIN:VCALENDAR
VERSION:2.0
PRODID:-//ChamberMaster//Event Calendar 2.0//EN
METHOD:PUBLISH
X-PUBLISHED-TTL:P3D
REFRESH-INTERVAL:P3D
CALSCALE:GREGORIAN
BEGIN:VEVENT
DTSTART:20160518T163000Z
DTEND:20160518T180000Z
X-MICROSOFT-CDO-ALLDAYEVENT:FALSE
SUMMARY:Walk Out On Your Job
DESCRIPTION:It's the 26th annual celebration in Kearney to promote physical activity at your workplace. Join many different organizations who use this event as a platform to promote healthy work environments.\n\n\n\n*Registration deadline is April 29th*
X-ALT-DESC;FMTTYPE=text/html:It&#39\;s the 26th&nbsp\;annual celebration in Kearney to promote physical activity at your workplace. Join many different organizations who use this event as a platform to promote healthy work environments.<br />\n<br />\n<u><strong>*Registration deadline is April 29th*</strong></u>
LOCATION:University of Nebraska at Kearney College of Education parking lot
UID:e.1404.8721
SEQUENCE:3
DTSTAMP:20260421T202450Z
URL:https://members.kearneycoc.org/events/details/walk-out-on-your-job-05-18-2016-8721
END:VEVENT

END:VCALENDAR
