BEGIN:VCALENDAR
VERSION:2.0
PRODID:-//ChamberMaster//Event Calendar 2.0//EN
METHOD:PUBLISH
X-PUBLISHED-TTL:P3D
REFRESH-INTERVAL:P3D
CALSCALE:GREGORIAN
BEGIN:VEVENT
DTSTART:20120913T223000Z
DTEND:20120914T003000Z
X-MICROSOFT-CDO-ALLDAYEVENT:FALSE
SUMMARY:Walk to End Alzheimer's
DESCRIPTION:Join us to Walk to End Alzheimer's\n\nRaise funds to support local families!\n\nRaise money for research!\n\nRaise awareness and make a difference!!
X-ALT-DESC;FMTTYPE=text/html:Join us to Walk to End Alzheimer&#39\;s<br />\nRaise funds to support local families!<br />\nRaise money for research!<br />\nRaise awareness and make a difference!!
LOCATION:Peterson Senior Activity Center\, Yanney Heritage Park
UID:e.1404.2163
SEQUENCE:3
DTSTAMP:20260425T015333Z
URL:https://members.kearneycoc.org/events/details/walk-to-end-alzheimer-s-09-13-2012-2163
END:VEVENT

END:VCALENDAR
