BEGIN:VCALENDAR
VERSION:2.0
PRODID:-//ChamberMaster//Event Calendar 2.0//EN
METHOD:PUBLISH
X-PUBLISHED-TTL:P3D
REFRESH-INTERVAL:P3D
CALSCALE:GREGORIAN
BEGIN:VEVENT
DTSTART:20150830T163000Z
DTEND:20150830T191500Z
X-MICROSOFT-CDO-ALLDAYEVENT:FALSE
SUMMARY:Walk to End Alzheimer's & Free Family Fun Day
DESCRIPTION:Family Fun Activities\, including a free lunch from Runza\, bounce houses\, games\, dog contests and more! 11:30 am to 1:00 p.m.\n\n\n\nWalk to End Alzheimer's begins at 1:00 p.m.
X-ALT-DESC;FMTTYPE=text/html:Family Fun Activities\, including a free lunch from Runza\, bounce houses\, games\, dog contests and more!&nbsp\;11:30 am to 1:00 p.m.<br />\n<br />\nWalk to End Alzheimer&#39\;s begins at 1:00 p.m.
LOCATION:Yanney Heritage Park by the ERC Building 2020 W. 11th St.
UID:e.1404.6471
SEQUENCE:3
DTSTAMP:20260422T114930Z
URL:https://members.kearneycoc.org/events/details/walk-to-end-alzheimer-s-free-family-fun-day-08-30-2015-6471
END:VEVENT

END:VCALENDAR
