BEGIN:VCALENDAR
VERSION:2.0
PRODID:-//ChamberMaster//Event Calendar 2.0//EN
METHOD:PUBLISH
X-PUBLISHED-TTL:P3D
REFRESH-INTERVAL:P3D
CALSCALE:GREGORIAN
BEGIN:VEVENT
DTSTART:20130425T223000Z
DTEND:20130425T233000Z
X-MICROSOFT-CDO-ALLDAYEVENT:FALSE
SUMMARY:Walk to End Alzheimer's Kick off Celebration
DESCRIPTION:Learn about the Kearney Walk to End Alzheimer's and how you can help end Alzheimer's Now!
X-ALT-DESC;FMTTYPE=text/html:Learn about the Kearney Walk to End Alzheimer&#39\;s and how you can help end Alzheimer&#39\;s Now!
LOCATION:Northridge Senior Living Community 5410 17th Ave Kearney\, NE 68845
UID:e.1404.2502
SEQUENCE:3
DTSTAMP:20260424T122657Z
URL:https://members.kearneycoc.org/events/details/walk-to-end-alzheimer-s-kick-off-celebration-04-25-2013-2502
END:VEVENT

END:VCALENDAR
