BEGIN:VCALENDAR
VERSION:2.0
PRODID:-//ChamberMaster//Event Calendar 2.0//EN
METHOD:PUBLISH
X-PUBLISHED-TTL:P3D
REFRESH-INTERVAL:P3D
CALSCALE:GREGORIAN
BEGIN:VEVENT
DTSTART:20210915T170000Z
DTEND:20210915T180000Z
X-MICROSOFT-CDO-ALLDAYEVENT:FALSE
SUMMARY:Webinar Cline Williams Employment Law Forum - OSHA Compliance Workshop: An Ounce of Prevention or A Pound of Cure?
DESCRIPTION:Most employers understand they have a legal obligation to provide a safe workplace\, but questions arise as employers consider how best to comply with ever-evolving safety rules and regulations. The presence of COVID-19 in the workplace has only complicated matters. This presentation will provide employers practical guidance on keeping their workplaces safe and maintaining compliance. Additionally\, this presentation will address:\n\n\n\n  Current OSHA guidance\, including on COVID-19 safety\;\n\n  Enforcement trends\;\n\n  Compliance imperatives and best practices\; and\n\n  Resources for employers to prepare for on-site inspections.\n\n\n\nHardhats and safety glasses not required!\n\n\n\n*Continuing education credit for this seminar is pending from the Nebraksa\, Iowa\, and Colorado CLE Commissions\, HR Certification Institute\, Society for Human Resource Management\, and the Nebraska Board of Public Accountancy.\n\n\n\nTo register\, click here.
X-ALT-DESC;FMTTYPE=text/html:<span style="background-color:rgb(255\, 255\, 255)\; color:rgb(35\, 35\, 51)\; font-family:lato\,helvetica\,arial\; font-size:14px">Most employers understand they have a legal obligation to provide a safe workplace\, but questions arise as employers consider how best to comply with ever-evolving safety rules and regulations. The presence of COVID-19 in the workplace has only complicated matters. This presentation will provide employers practical guidance on keeping their workplaces safe and maintaining compliance. Additionally\, this presentation will address:</span><br />\n<br />\n<span style="background-color:rgb(255\, 255\, 255)\; color:rgb(35\, 35\, 51)\; font-family:lato\,helvetica\,arial\; font-size:14px">&bull\; Current OSHA guidance\, including on COVID-19 safety\;</span><br />\n<span style="background-color:rgb(255\, 255\, 255)\; color:rgb(35\, 35\, 51)\; font-family:lato\,helvetica\,arial\; font-size:14px">&bull\; Enforcement trends\;</span><br />\n<span style="background-color:rgb(255\, 255\, 255)\; color:rgb(35\, 35\, 51)\; font-family:lato\,helvetica\,arial\; font-size:14px">&bull\; Compliance imperatives and best practices\; and</span><br />\n<span style="background-color:rgb(255\, 255\, 255)\; color:rgb(35\, 35\, 51)\; font-family:lato\,helvetica\,arial\; font-size:14px">&bull\; Resources for employers to prepare for on-site inspections.</span><br />\n<br />\n<span style="background-color:rgb(255\, 255\, 255)\; color:rgb(35\, 35\, 51)\; font-family:lato\,helvetica\,arial\; font-size:14px">Hardhats and safety glasses not required!<br />\n<br />\n*Continuing education credit for this seminar is pending from the Nebraksa\, Iowa\, and Colorado CLE Commissions\, HR Certification Institute\, Society for Human Resource Management\, and the Nebraska Board of Public Accountancy.</span><br />\n<br />\n<span style="background-color:rgb(255\, 255\, 255)\; color:rgb(35\, 35\, 51)\; font-family:lato\,helvetica\,arial\; font-size:14px">To register\, <a href="https://us02web.zoom.us/webinar/register/WN_0mPBGdD7RSSD-ascPXJDoA">click here.</a></span>
LOCATION:
UID:e.1404.19387
SEQUENCE:3
DTSTAMP:20260424T021737Z
URL:https://members.kearneycoc.org/events/details/webinar-cline-williams-employment-law-forum-osha-compliance-workshop-an-ounce-of-prevention-or-a-pound-of-cure-19387
END:VEVENT

END:VCALENDAR
