BEGIN:VCALENDAR
VERSION:2.0
PRODID:-//ChamberMaster//Event Calendar 2.0//EN
METHOD:PUBLISH
X-PUBLISHED-TTL:P3D
REFRESH-INTERVAL:P3D
CALSCALE:GREGORIAN
BEGIN:VEVENT
DTSTART:20190314T203000Z
DTEND:20190314T223000Z
X-MICROSOFT-CDO-ALLDAYEVENT:FALSE
SUMMARY:What Were We Thinking: Staging the Sixties
DESCRIPTION:Interested in theater? Then this Senior College class is for you! A nation's theater is quite possibly the first register of its current concerns. If journalism is the first draft of history\, then stage and film are the first draft of how we are digesting our own history and where that is leading us. In this class\, we will view three plays in their film versions followed by discussions\, with an idea to deriving our own definition of "the '60's".
X-ALT-DESC;FMTTYPE=text/html:Interested in theater? Then this Senior College class is for you! A nation&rsquo\;s theater is quite possibly the first register of its current concerns. If journalism is the first draft of history\, then stage and film are the first draft of how we are digesting our own history and where that is leading us. In this class\, we will view three plays in their film versions followed by discussions\, with an idea to deriving our own definition of &ldquo\;the &rsquo\;60&rsquo\;s&rdquo\;.
LOCATION:Ockinga Auditorium on the University of Nebraska Kearney campus
UID:e.1404.15408
SEQUENCE:3
DTSTAMP:20260426T033818Z
URL:https://members.kearneycoc.org/events/details/what-were-we-thinking-staging-the-sixties-15408
END:VEVENT

END:VCALENDAR
