BEGIN:VCALENDAR
VERSION:2.0
PRODID:-//ChamberMaster//Event Calendar 2.0//EN
METHOD:PUBLISH
X-PUBLISHED-TTL:P3D
REFRESH-INTERVAL:P3D
CALSCALE:GREGORIAN
BEGIN:VEVENT
DTSTART;VALUE=DATE:20161114
DTEND;VALUE=DATE:20161120
TRANSP:TRANSPARENT
X-MICROSOFT-CDO-ALLDAYEVENT:TRUE
SUMMARY:Whiskey Creek's 20th Anniversary Celebration
DESCRIPTION:Whiskey Creek is celebrating their 20th year in Kearney\, with ALL DAY Happy Hour Drink Specials and great deals on some of your favorite menu items!
X-ALT-DESC;FMTTYPE=text/html:Whiskey Creek is celebrating their 20th&nbsp\;year in Kearney\, with ALL DAY Happy Hour Drink Specials and great deals on some of your favorite menu items!
LOCATION:Kearney Whiskey Creek 407 S 2nd Ave Kearney\, NE 68847
UID:e.1404.9086
SEQUENCE:3
DTSTAMP:20260421T101809Z
URL:https://members.kearneycoc.org/events/details/whiskey-creek-s-20th-anniversary-celebration-9086
END:VEVENT

END:VCALENDAR
